BEGIN:VCALENDAR
VERSION:2.0
PRODID:-//CUNY Remote Sensing Earth System Institute - ECPv6.15.17.1//NONSGML v1.0//EN
CALSCALE:GREGORIAN
METHOD:PUBLISH
X-WR-CALNAME:CUNY Remote Sensing Earth System Institute
X-ORIGINAL-URL:https://crest.cuny.edu
X-WR-CALDESC:Events for CUNY Remote Sensing Earth System Institute
REFRESH-INTERVAL;VALUE=DURATION:PT1H
X-Robots-Tag:noindex
X-PUBLISHED-TTL:PT1H
BEGIN:VTIMEZONE
TZID:America/New_York
BEGIN:DAYLIGHT
TZOFFSETFROM:-0500
TZOFFSETTO:-0400
TZNAME:EDT
DTSTART:20250309T070000
END:DAYLIGHT
BEGIN:STANDARD
TZOFFSETFROM:-0400
TZOFFSETTO:-0500
TZNAME:EST
DTSTART:20251102T060000
END:STANDARD
BEGIN:DAYLIGHT
TZOFFSETFROM:-0500
TZOFFSETTO:-0400
TZNAME:EDT
DTSTART:20260308T070000
END:DAYLIGHT
BEGIN:STANDARD
TZOFFSETFROM:-0400
TZOFFSETTO:-0500
TZNAME:EST
DTSTART:20261101T060000
END:STANDARD
BEGIN:DAYLIGHT
TZOFFSETFROM:-0500
TZOFFSETTO:-0400
TZNAME:EDT
DTSTART:20270314T070000
END:DAYLIGHT
BEGIN:STANDARD
TZOFFSETFROM:-0400
TZOFFSETTO:-0500
TZNAME:EST
DTSTART:20271107T060000
END:STANDARD
END:VTIMEZONE
BEGIN:VEVENT
DTSTART;TZID=America/New_York:20260416T120000
DTEND;TZID=America/New_York:20260416T140000
DTSTAMP:20260421T191922
CREATED:20260325T200504Z
LAST-MODIFIED:20260415T200755Z
UID:7625-1776340800-1776348000@crest.cuny.edu
SUMMARY:Entrepreneurship Seminar Series by CREST & TiE New Jersey  Session 2: Design Thinking-Building For Your User
DESCRIPTION: Session 2 of the Entrepreneurship Seminar Series by CUNY CREST and TiE New Jersey. This is a series of six monthly seminars beginning this semester and concluding in the Fall.\n\nTopic: Design Thinking-Building for Your User\nSpeaker: Ami Rao Elisman\, Founder at Morro: Behavioral Design & Designing for Adoption\n\nEvent Details:\nDate & Time: April 16\, 2026 | 12:00-2:00 PM\nLocation: North Academic Center (NAC) 6-105 at CCNY | Zoom Link\n\nWhat to Expect:\nYou’ll learn how to understand your users and uncover their needs\, move past assumptions to define the right problem\, and choose and test solutions that genuinely serve your audience.\n\nRead the flyer here for details.
URL:https://crest.cuny.edu/event/entrepreneurship-seminar-series-by-crest-tie-new-jersey-session-2-design-thinking-building-for-your-user/
LOCATION:6-105 NAC\, CCNY
END:VEVENT
BEGIN:VEVENT
DTSTART;TZID=America/New_York:20260430T110000
DTEND;TZID=America/New_York:20260430T143000
DTSTAMP:20260421T191922
CREATED:20260420T180631Z
LAST-MODIFIED:20260420T180746Z
UID:7688-1777546800-1777559400@crest.cuny.edu
SUMMARY:BATWorks Tour at the Brooklyn Army Terminal
DESCRIPTION:Join us for a visit to BATWorks at the Brooklyn Army Terminal (BAT) on Thursday\, April 30th from 11:00 am to approximately 1:30–2:30 pm. This event will provide students\, faculty\, and staff from CUNY CREST\, City Tech\, and anyone else from CUNY an opportunity to tour the BATWorks temporary facility and learn more about the vision for the future site. \nBATWorks is a climate innovation hub and incubator based at the Brooklyn Army Terminal\, supporting startups\, workforce development\, and applied research in sustainable and clean technologies through a partnership between CUNY\, NYU\, and the Los Angeles Cleantech Incubator (LACI). \nParticipants will gain insight into emerging workforce development and entrepreneurship programs in climate technology developed through this collaboration. If you are interested in exploring opportunities in climate innovation\, applied research\, and career pathways in this growing sector\, we encourage you to register by April 27th. \nLunch will be provided | Limited Capacity \nFor more information\, contact: Hamid Norouzi at HNorouzi@CityTech.Cuny.Edu \nRegistration Link: https://shorturl.at/aB3OI \nAddress: BATWorks Temporary Space 102 58th Street\, Brooklyn\, NY 11220 \nThursday\, April 30th from 11:00 am to approximately 1:30-2:30 pm \nBATWorks Tour Flyer
URL:https://crest.cuny.edu/event/batworks-tour-at-the-brooklyn-army-terminal/
LOCATION:BATWorks Temporary Space 102 58th Street\, Brooklyn\, NY 11220\, BATWorks Temporary Space 102 58th Street\, Brooklyn\, NY\, 11220\, United States
END:VEVENT
BEGIN:VEVENT
DTSTART;TZID=America/New_York:20260430T121500
DTEND;TZID=America/New_York:20260430T133000
DTSTAMP:20260421T191922
CREATED:20260413T180434Z
LAST-MODIFIED:20260413T180434Z
UID:7666-1777551300-1777555800@crest.cuny.edu
SUMMARY:Virtual Seminar: Building a Resilient Australian Great Barrier Reef
DESCRIPTION:What does it take to build resilience in one of the world’s most iconic ecosystems? \nJoin the upcoming virtual seminar\, Building a Resilient Australian Great Barrier Reef\, featuring leading voices in reef science and resilience practice. We are honored to welcome Fred Nucifora\, General Manager for Major Projects at the Great Barrier Reef Marine Park Authority (GBRMPA)\, as our featured speaker. \nOrganized by the CUNY CREST International Collaboration Pillar led by Juan Mercado\, Neal Phillip\, Ph. D.\, Paramita Sen\, and Nir Krakauer\, this session will highlight current research and management efforts supporting the long-term health and resilience of the Great Barrier Reef\, with a focus on climate adaptation\, ecosystem monitoring\, and global collaboration. \n📍April 30\, 2026 | 12:15-1:30 PM EDT | Zoom: https://shorturl.at/xIcce\n🔗 Register here: https://lnkd.in/eTTsFe_y \nWe look forward to your participation!
URL:https://crest.cuny.edu/event/virtual-seminar-building-a-resilient-australian-great-barrier-reef/
LOCATION:NY
END:VEVENT
END:VCALENDAR