BEGIN:VCALENDAR
VERSION:2.0
PRODID:-//CUNY Remote Sensing Earth System Institute - ECPv6.15.17.1//NONSGML v1.0//EN
CALSCALE:GREGORIAN
METHOD:PUBLISH
X-WR-CALNAME:CUNY Remote Sensing Earth System Institute
X-ORIGINAL-URL:https://crest.cuny.edu
X-WR-CALDESC:Events for CUNY Remote Sensing Earth System Institute
REFRESH-INTERVAL;VALUE=DURATION:PT1H
X-Robots-Tag:noindex
X-PUBLISHED-TTL:PT1H
BEGIN:VTIMEZONE
TZID:America/New_York
BEGIN:DAYLIGHT
TZOFFSETFROM:-0500
TZOFFSETTO:-0400
TZNAME:EDT
DTSTART:20240310T070000
END:DAYLIGHT
BEGIN:STANDARD
TZOFFSETFROM:-0400
TZOFFSETTO:-0500
TZNAME:EST
DTSTART:20241103T060000
END:STANDARD
BEGIN:DAYLIGHT
TZOFFSETFROM:-0500
TZOFFSETTO:-0400
TZNAME:EDT
DTSTART:20250309T070000
END:DAYLIGHT
BEGIN:STANDARD
TZOFFSETFROM:-0400
TZOFFSETTO:-0500
TZNAME:EST
DTSTART:20251102T060000
END:STANDARD
BEGIN:DAYLIGHT
TZOFFSETFROM:-0500
TZOFFSETTO:-0400
TZNAME:EDT
DTSTART:20260308T070000
END:DAYLIGHT
BEGIN:STANDARD
TZOFFSETFROM:-0400
TZOFFSETTO:-0500
TZNAME:EST
DTSTART:20261101T060000
END:STANDARD
END:VTIMEZONE
BEGIN:VEVENT
DTSTART;TZID=America/New_York:20250130T120000
DTEND;TZID=America/New_York:20250130T130000
DTSTAMP:20260424T013511
CREATED:20250128T164017Z
LAST-MODIFIED:20250128T164017Z
UID:5417-1738238400-1738242000@crest.cuny.edu
SUMMARY:Nature Water - New Journal in the Nature Portfolio
DESCRIPTION:Join the CUNY CREST Institute for a seminar to learn about Nature Water- a new journal on Thursday\, January 30\, 2025 from 12 to 1 pm EST in the Exhibit room\, GSOE at City College. \nNature Water\, which launched in 2023\, covers all elements of research related to the relationship between society and water resources. Dr. Karin Sjöstrand\, a member of the editorial team from the journal’s inception\, will discuss the lead-up to and launch of Nature Water\, how it fits within the wider Nature family\, and the editing and publishing processes at Springer Nature. Nature Water focuses on the natural sciences (primarily Earth and environmental science)\, engineering (including environmental\, civil\, chemical\, and materials engineering)\, and social sciences (economy\, human geography\, and sociology\, among other disciplines)\, with a special emphasis on interdisciplinary research. The purpose of the journal is to publish studies that will help advance fundamental understanding and have an impact on practical technology applications and policy implementation possibilities. \nTo learn more\, view the Flyer. pdf.
URL:https://crest.cuny.edu/event/nature-water-new-journal-in-the-nature-portfolio/
LOCATION:Exhibit Room\, Steinman Hall at Grove School of Engineering\, 259 Convent Avenue\, New York\, United States
END:VEVENT
END:VCALENDAR