BEGIN:VCALENDAR
VERSION:2.0
PRODID:-//CUNY Remote Sensing Earth System Institute - ECPv6.15.17.1//NONSGML v1.0//EN
CALSCALE:GREGORIAN
METHOD:PUBLISH
X-WR-CALNAME:CUNY Remote Sensing Earth System Institute
X-ORIGINAL-URL:https://crest.cuny.edu
X-WR-CALDESC:Events for CUNY Remote Sensing Earth System Institute
REFRESH-INTERVAL;VALUE=DURATION:PT1H
X-Robots-Tag:noindex
X-PUBLISHED-TTL:PT1H
BEGIN:VTIMEZONE
TZID:America/New_York
BEGIN:DAYLIGHT
TZOFFSETFROM:-0500
TZOFFSETTO:-0400
TZNAME:EDT
DTSTART:20230312T070000
END:DAYLIGHT
BEGIN:STANDARD
TZOFFSETFROM:-0400
TZOFFSETTO:-0500
TZNAME:EST
DTSTART:20231105T060000
END:STANDARD
BEGIN:DAYLIGHT
TZOFFSETFROM:-0500
TZOFFSETTO:-0400
TZNAME:EDT
DTSTART:20240310T070000
END:DAYLIGHT
BEGIN:STANDARD
TZOFFSETFROM:-0400
TZOFFSETTO:-0500
TZNAME:EST
DTSTART:20241103T060000
END:STANDARD
BEGIN:DAYLIGHT
TZOFFSETFROM:-0500
TZOFFSETTO:-0400
TZNAME:EDT
DTSTART:20250309T070000
END:DAYLIGHT
BEGIN:STANDARD
TZOFFSETFROM:-0400
TZOFFSETTO:-0500
TZNAME:EST
DTSTART:20251102T060000
END:STANDARD
END:VTIMEZONE
BEGIN:VEVENT
DTSTART;TZID=America/New_York:20240229T130000
DTEND;TZID=America/New_York:20240229T140000
DTSTAMP:20260423T214315
CREATED:20240228T180437Z
LAST-MODIFIED:20240304T231122Z
UID:4194-1709211600-1709215200@crest.cuny.edu
SUMMARY:Entrepreneurship Seminar
DESCRIPTION:Are you interested in exploring Entrepreneurship as a path to put your science into practice? Then join CUNY CREST at its ‘Entrepreneurship Seminar’ and hear stories from its alumni and learn about helpful resources. \nBelow are the key event details: \nDate: Feb 29\, 2024 \nTime: 1-2 PM EST \nLocation: Exhibit Hall at the Grove School of Engineering\, CCNY \nRegistration: Click here  \nRefer to the Entrepreneruship Workshop Flyer for more information \nView the seminar recording here.
URL:https://crest.cuny.edu/event/entrepreneurship-seminar/
LOCATION:Exhibit Room\, Steinman Hall at Grove School of Engineering\, 259 Convent Avenue\, New York\, United States
END:VEVENT
END:VCALENDAR